BEGIN:VCALENDAR
VERSION:2.0
PRODID:-//Maker Savvy - ECPv6.15.20//NONSGML v1.0//EN
CALSCALE:GREGORIAN
METHOD:PUBLISH
X-ORIGINAL-URL:https://makersavvy.ca
X-WR-CALDESC:Events for Maker Savvy
REFRESH-INTERVAL;VALUE=DURATION:PT1H
X-Robots-Tag:noindex
X-PUBLISHED-TTL:PT1H
BEGIN:VTIMEZONE
TZID:America/Toronto
BEGIN:DAYLIGHT
TZOFFSETFROM:-0500
TZOFFSETTO:-0400
TZNAME:EDT
DTSTART:20250309T070000
END:DAYLIGHT
BEGIN:STANDARD
TZOFFSETFROM:-0400
TZOFFSETTO:-0500
TZNAME:EST
DTSTART:20251102T060000
END:STANDARD
BEGIN:DAYLIGHT
TZOFFSETFROM:-0500
TZOFFSETTO:-0400
TZNAME:EDT
DTSTART:20260308T070000
END:DAYLIGHT
BEGIN:STANDARD
TZOFFSETFROM:-0400
TZOFFSETTO:-0500
TZNAME:EST
DTSTART:20261101T060000
END:STANDARD
BEGIN:DAYLIGHT
TZOFFSETFROM:-0500
TZOFFSETTO:-0400
TZNAME:EDT
DTSTART:20270314T070000
END:DAYLIGHT
BEGIN:STANDARD
TZOFFSETFROM:-0400
TZOFFSETTO:-0500
TZNAME:EST
DTSTART:20271107T060000
END:STANDARD
END:VTIMEZONE
BEGIN:VEVENT
DTSTART;TZID=America/Toronto:20260328T130000
DTEND;TZID=America/Toronto:20260328T153000
DTSTAMP:20260419T113600
CREATED:20260205T210743Z
LAST-MODIFIED:20260303T155832Z
UID:10003469-1774702800-1774711800@makersavvy.ca
SUMMARY:Not Your Grandmother's Flower Garden - An Introduction to Modern Traditionalism
DESCRIPTION:Description \n\n\nTake your quilts to the next level with this modern traditionalism faux English Paper Pieced (EPP) hexi. What is modern traditionalism? Modern Traditionalism is the use of an identifiable traditional block\, modernized in some way\, using design techniques like colour\, scale\, symmetry\, and grid placement.  \n\n\n \nThe faux EPP hexies are stitched onto a traditional 4-patch block in modern low-volume prints.  The result is a quilt top featuring traditional blocks\, stitched in a modern way\, with modern and traditional fabrics on a four-patch grid.  This quilt is also scrap-friendly.\n\nWhat You Will Learn\nIn this class\, you will learn: \n\n\n\n\n\nBlind machine applique – type of stitch\, thread and needles.\nInnovative ways to use preprinted fusible interfacing.\nAligning different block components to make symmetrical\, as well as asymmetrical\, designs and layouts.\nQuilting options and designs will be discussed.\n\n\n\n\n\n\nClass Details\n\n\n\n\n\nDates & Time: \n\n\n\nDate:\n\nMarch\, 28th\, 2026 – 1/3\nApril\, 4th\, 2026 – 2/3 (**Class Time has changed)\nApril\, 11th\, 2026 – 3/3\n\n\nTime:\n\n@1:00pm-3:30pm\n@9:30am-12:00pm on Apr. 4th \n\n\n\n\n\n\nLocation:\n\n\n\nMaker Savvy Classroom \n\n\n\n\nSkill Level: Beginner\, Intermediate\, Advanced\nInstructor:\n\n\n\nMaker Savvy Team Member Julie.\n\n\n\n\n\n\n\n\n\n\nSpecial Information & Preparation\n\n\n\nWorkshop printed instructions and classroom instructions included\nLow-volume fabric kits will be available for purchase\n\n\n\nRegister Here\n 
URL:https://makersavvy.ca/class/not-your-grandmothers-flower-garden/2026-03-28/
LOCATION:Maker Savvy\, 462 Hazeldean Road\, Kanata\, Ontario\, K2L 1V3\, Canada
CATEGORIES:Classes,English Paper Piecing,Quilting,Sewing
ATTACH;FMTTYPE=image/jpeg:https://makersavvy.ca/wp-content/uploads/2026/02/Not-Your-Grandmothers-Flower-Garden.jpg
END:VEVENT
END:VCALENDAR